BEGIN:VCALENDAR
VERSION:2.0
PRODID:-//FREIE WALDORFSCHULE SORSUM - ECPv6.8.2.1//NONSGML v1.0//EN
CALSCALE:GREGORIAN
METHOD:PUBLISH
X-ORIGINAL-URL:https://waldorfschule-sorsum.de
X-WR-CALDESC:Veranstaltungen für FREIE WALDORFSCHULE SORSUM
REFRESH-INTERVAL;VALUE=DURATION:PT1H
X-Robots-Tag:noindex
X-PUBLISHED-TTL:PT1H
BEGIN:VTIMEZONE
TZID:Europe/Berlin
BEGIN:DAYLIGHT
TZOFFSETFROM:+0100
TZOFFSETTO:+0200
TZNAME:CEST
DTSTART:20240331T010000
END:DAYLIGHT
BEGIN:STANDARD
TZOFFSETFROM:+0200
TZOFFSETTO:+0100
TZNAME:CET
DTSTART:20241027T010000
END:STANDARD
END:VTIMEZONE
BEGIN:VEVENT
DTSTART;VALUE=DATE:20240913
DTEND;VALUE=DATE:20240914
DTSTAMP:20260425T125111
CREATED:20211011T070338Z
LAST-MODIFIED:20240920T060012Z
UID:3679-1726185600-1726271999@waldorfschule-sorsum.de
SUMMARY:Jahresarbeiten der 12. Klasse
DESCRIPTION:
URL:https://waldorfschule-sorsum.de/veranstaltung/jahresarbeiten-der-12-klasse/
END:VEVENT
BEGIN:VEVENT
DTSTART;TZID=Europe/Berlin:20240928T100000
DTEND;TZID=Europe/Berlin:20240928T140000
DTSTAMP:20260425T125111
CREATED:20220919T110727Z
LAST-MODIFIED:20240919T192959Z
UID:4387-1727517600-1727532000@waldorfschule-sorsum.de
SUMMARY:Michaelifest
DESCRIPTION:Am 29. September ist Michaelstag. An diesem Tag beginnt die Michaelizeit\, die vier Wochen lang andauert. Michaeli gehört vor Sankt Martin und Sankt Nikolaus zu den drei Festen\, die bildhaft dazu beitragen\, die Kinder auf das Weihnachtsfest vorzubereiten.Der Erzengel Michael\, der den Drachen besiegt\, ist mit dieser Tat ein Bild dafür\, dass das Bewusstsein wach sein muss\, damit das Böse durchschaut und besiegt werden kann. Die Geisteskräfte werden angesprochen. \nWir feiern das Fest in dem die SuS der 4. Klasse mit brennenden Pfeilen einen Drachen besiegen. Dazu gibt es Mutproben zu bestehen.
URL:https://waldorfschule-sorsum.de/veranstaltung/michaelifest-2/
LOCATION:FWS Sorsum\, Weetzener Str. 1\, Wennigsen\, 30974\, Deutschland
END:VEVENT
END:VCALENDAR