BEGIN:VCALENDAR
VERSION:2.0
PRODID:-//FREIE WALDORFSCHULE SORSUM - ECPv6.8.2.1//NONSGML v1.0//EN
CALSCALE:GREGORIAN
METHOD:PUBLISH
X-WR-CALNAME:FREIE WALDORFSCHULE SORSUM
X-ORIGINAL-URL:https://waldorfschule-sorsum.de
X-WR-CALDESC:Veranstaltungen für FREIE WALDORFSCHULE SORSUM
REFRESH-INTERVAL;VALUE=DURATION:PT1H
X-Robots-Tag:noindex
X-PUBLISHED-TTL:PT1H
BEGIN:VTIMEZONE
TZID:Europe/Berlin
BEGIN:DAYLIGHT
TZOFFSETFROM:+0100
TZOFFSETTO:+0200
TZNAME:CEST
DTSTART:20250330T010000
END:DAYLIGHT
BEGIN:STANDARD
TZOFFSETFROM:+0200
TZOFFSETTO:+0100
TZNAME:CET
DTSTART:20251026T010000
END:STANDARD
END:VTIMEZONE
BEGIN:VEVENT
DTSTART;VALUE=DATE:20250203
DTEND;VALUE=DATE:20250208
DTSTAMP:20260423T020940
CREATED:20231020T070221Z
LAST-MODIFIED:20240919T191250Z
UID:5542-1738540800-1738972799@waldorfschule-sorsum.de
SUMMARY:FWS Ferien
DESCRIPTION:
URL:https://waldorfschule-sorsum.de/veranstaltung/fws-ferien/
END:VEVENT
END:VCALENDAR